BEGIN:VCALENDAR
VERSION:2.0
PRODID:-//Watts Art Academy - ECPv6.15.20//NONSGML v1.0//EN
CALSCALE:GREGORIAN
METHOD:PUBLISH
X-WR-CALNAME:Watts Art Academy
X-ORIGINAL-URL:https://wattsartacademy.ca
X-WR-CALDESC:Events for Watts Art Academy
REFRESH-INTERVAL;VALUE=DURATION:PT1H
X-Robots-Tag:noindex
X-PUBLISHED-TTL:PT1H
BEGIN:VTIMEZONE
TZID:America/Vancouver
BEGIN:DAYLIGHT
TZOFFSETFROM:-0800
TZOFFSETTO:-0700
TZNAME:PDT
DTSTART:20230312T100000
END:DAYLIGHT
BEGIN:STANDARD
TZOFFSETFROM:-0700
TZOFFSETTO:-0800
TZNAME:PST
DTSTART:20231105T090000
END:STANDARD
BEGIN:DAYLIGHT
TZOFFSETFROM:-0800
TZOFFSETTO:-0700
TZNAME:PDT
DTSTART:20240310T100000
END:DAYLIGHT
BEGIN:STANDARD
TZOFFSETFROM:-0700
TZOFFSETTO:-0800
TZNAME:PST
DTSTART:20241103T090000
END:STANDARD
BEGIN:DAYLIGHT
TZOFFSETFROM:-0800
TZOFFSETTO:-0700
TZNAME:PDT
DTSTART:20250309T100000
END:DAYLIGHT
BEGIN:STANDARD
TZOFFSETFROM:-0700
TZOFFSETTO:-0800
TZNAME:PST
DTSTART:20251102T090000
END:STANDARD
BEGIN:DAYLIGHT
TZOFFSETFROM:-0800
TZOFFSETTO:-0700
TZNAME:PDT
DTSTART:20260308T100000
END:DAYLIGHT
BEGIN:STANDARD
TZOFFSETFROM:-0700
TZOFFSETTO:-0800
TZNAME:PST
DTSTART:20261101T090000
END:STANDARD
END:VTIMEZONE
BEGIN:VEVENT
DTSTART;TZID=America/Vancouver:20250511T110000
DTEND;TZID=America/Vancouver:20250511T140000
DTSTAMP:20260423T133622
CREATED:20250402T025246Z
LAST-MODIFIED:20250402T033859Z
UID:6626-1746961200-1746972000@wattsartacademy.ca
SUMMARY:Mother's Day Watercolour Paint Workshop
DESCRIPTION:Celebrate Mother’s Day in a fun and unforgettable way with a Watercolour Crocus Paint Workshop at Wildflower Farm! Enjoy a relaxing and creative experience in the beautiful rustic barn\, surrounded by the charm of the countryside. \nEvent Highlights: \n•Learn to paint delicate watercolour crocus flowers in a beginner-to-intermediate-friendly workshop. \n•Enjoy a light brunch\, hot drinks\, and refreshing sangria in a cozy farm setting. \n•Use high-quality painting supplies\, including a specially designed Butterfly Forest Paint palette—yours to take home! \n•Explore the wildflower farm and visit our friendly farm animals for a perfect springtime experience. \nThis is a wonderful opportunity to spend quality time with loved ones\, embrace creativity\, and soak in the beauty of nature. Whether you’re treating yourself or gifting this experience to a special mom in your life\, it’s sure to be a memorable day! \nWildflower Farm: 9295 Pooley Road\, Prince George \nSpaces are limited—reserve your spot below. \nIf you would like to sign up\, and pay via etransfer or need to let us know of any dietary restrictions please email me at wattsartacademy@gmail.com.
URL:https://wattsartacademy.ca/event/mothers-day-on-the-farm-watercolour-crocus-paint-workshop/
LOCATION:Wildflower Farm\, 9295 Pooley Rd\, Prince George\, BC\, Canada
CATEGORIES:Watercolour Workshop
ATTACH;FMTTYPE=image/jpeg:https://wattsartacademy.ca/wp-content/uploads/2025/04/Copy-of-Join-us-April-25th-530pm-730pm-at-Hunniford-e1743563815254.jpg
ORGANIZER;CN="Christina Watts":MAILTO:wattsartacademy@gmail.com
END:VEVENT
BEGIN:VEVENT
DTSTART;TZID=America/Vancouver:20250425T173000
DTEND;TZID=America/Vancouver:20250425T180000
DTSTAMP:20260423T133622
CREATED:20250312T015753Z
LAST-MODIFIED:20250402T035528Z
UID:6613-1745602200-1745604000@wattsartacademy.ca
SUMMARY:Paint and Sip - Lilacs in Acrylic
DESCRIPTION:SOLD OUT! Enjoy a lovely evening at the greenhouse and learn how paint a beautiful lilac flower scene step by step.  This workshop is perfect for beginner to intermediate painters.   \nTicket includes: \n\nall paint and supplies\n1 glass of wine or sparkling beverage\n\nAdditional beverages available at extra cost. \nThis workshop runs on Friday\, April 25 from 5:30 pm-7:30 pm. Cost is $75 plus tax.\n\nPlease note: Tickets are non-refundable.\n\nRegistration is through Hunniford Gardens\, click the link below or call 250-967-4325 to reserve your spot.\n\nSIGN UP HERE\n\nFor those of you unfamiliar with Hunniford Gardens\, they are located at 8845 Aquarius Road\, 11 km down Chief Lake Road.
URL:https://wattsartacademy.ca/event/paint-and-sip-lilacs-in-acrylic/
LOCATION:Hunniford Gardens\, 8845 Aquarius Road\, Prince George\, BC\, Canada
CATEGORIES:Acrylic Workshop
ATTACH;FMTTYPE=image/jpeg:https://wattsartacademy.ca/wp-content/uploads/2025/03/Join-us-April-25th-530pm-730pm-at-Hunniford.jpg
ORGANIZER;CN="Hunniford Gardens":MAILTO:​hunnifords@hotmail.com
END:VEVENT
BEGIN:VEVENT
DTSTART;TZID=America/Vancouver:20240901T110000
DTEND;TZID=America/Vancouver:20240901T130000
DTSTAMP:20260423T133622
CREATED:20240808T023358Z
LAST-MODIFIED:20240808T023358Z
UID:6601-1725188400-1725195600@wattsartacademy.ca
SUMMARY:Watercolour Sunflower Workshop
DESCRIPTION:🌻 When: Sunday\, September 1st\, 2024\n🌻 Where: 1965 Foreman Rd\n🌻 Time: 11:00 AM to 1:00 PM\n🌻 Cost: $70 (GST included) \nWhat’s Included: \n\nUnleash your creativity with the expert instruction of Christina Watts from Watts Art Academy.\nEnjoy 2 hours of watercolor painting with all supplies provided and you keep the specially designed paint dot palette.\nGain entry to the Sunflower Festival – explore and enjoy before or after your class.\nSip on a glass of wine\, beer\, or a non-alcoholic beverage from the Bloom Café.\nTake home a beautiful sunflower stem from our U-Cut area.\n\nUnleash your inner artist and have a blast! Limited spots available\, so secure your ticket today and join us for a day of creativity and fun! \nLevel: Beginner to Intermediate \nRegistration for this workshop is through the Northern Lights Estate Winery website.  Here’s the link:  buynorthernlightswines.com/products/sunflower-watercolor-class
URL:https://wattsartacademy.ca/event/watercolour-sunflower-workshop/
LOCATION:Foreman Farms\, 1965 Foreman Rd\, Prince George\, BC\, Canada
CATEGORIES:Watercolour Workshop
ATTACH;FMTTYPE=image/jpeg:https://wattsartacademy.ca/wp-content/uploads/2024/08/Watercolour-Sunflowers.jpg
END:VEVENT
BEGIN:VEVENT
DTSTART;TZID=America/Vancouver:20240529T120000
DTEND;TZID=America/Vancouver:20240529T140000
DTSTAMP:20260423T133622
CREATED:20240309T002917Z
LAST-MODIFIED:20240309T003658Z
UID:6516-1716984000-1716991200@wattsartacademy.ca
SUMMARY:Senior Paint Club - Drawing Hands
DESCRIPTION:Hands are one of the most interesting body parts to draw.  Make beautiful memories with hand drawing.  Instructed by Christina Watts. All supplies and tax included. \nRegistration for this workshop is through Studio 2880.  Call 250-563-2880 or sign up online by CLICKING HERE. \nIn partnership with Studio 2880 we are excited to bring you fun\, affordable and accessible workshops designed for seniors 60+.  These workshops are located in the Jack Bryant Room\, a ground floor open space accessed through the Prince George Symphony Orchestra door via the ramp in the parking lot.
URL:https://wattsartacademy.ca/event/senior-paint-club-drawing-hands/
LOCATION:Studio 2880 – Jack Bryan Room\, 2880 15th Ave\, Prince George\, BC\, V2M 4V4\, Canada
CATEGORIES:Drawing Workshop
ATTACH;FMTTYPE=image/jpeg:https://wattsartacademy.ca/wp-content/uploads/2024/03/hand-drawing.jpg
END:VEVENT
BEGIN:VEVENT
DTSTART;TZID=America/Vancouver:20240522T120000
DTEND;TZID=America/Vancouver:20240522T140000
DTSTAMP:20260423T133622
CREATED:20240309T002420Z
LAST-MODIFIED:20240330T223803Z
UID:6514-1716379200-1716386400@wattsartacademy.ca
SUMMARY:Senior Paint Club - Landscape Sketching
DESCRIPTION:Create landscape sketches with ease and enjoy experiencing graphite in fun new ways.  Instructed by Christina Watts. All supplies and tax included. \nRegistration for this workshop is through Studio 2880.  Call 250-563-2880 or sign up online by CLICKING HERE. \nIn partnership with Studio 2880 we are excited to bring you fun\, affordable and accessible workshops designed for seniors 60+.  These workshops are located in the Jack Bryant Room\, a ground floor open space accessed through the Prince George Symphony Orchestra door via the ramp in the parking lot.
URL:https://wattsartacademy.ca/event/senior-paint-club-landscape-sketching/
LOCATION:Studio 2880 – Jack Bryan Room\, 2880 15th Ave\, Prince George\, BC\, V2M 4V4\, Canada
CATEGORIES:Drawing Workshop
ATTACH;FMTTYPE=image/jpeg:https://wattsartacademy.ca/wp-content/uploads/2024/03/landscape-sketch.jpg
ORGANIZER;CN="Studio 2880":MAILTO:arts@studio2880.com
END:VEVENT
BEGIN:VEVENT
DTSTART;TZID=America/Vancouver:20240515T120000
DTEND;TZID=America/Vancouver:20240515T140000
DTSTAMP:20260423T133622
CREATED:20240309T001930Z
LAST-MODIFIED:20240309T003501Z
UID:6512-1715774400-1715781600@wattsartacademy.ca
SUMMARY:Senior Paint Club - Colour Mixing
DESCRIPTION:Understand how to mix the perfect colours.  In this class we will use watercolours but the concepts shown still apply to other mediums such as acrylic and oil.  Instructed by Christina Watts. All supplies and tax included. \nRegister through Studio 2880 by calling 250-563-2880 or online by CLICKING HERE. \nIn partnership with Studio 2880 we are excited to bring you fun\, affordable and accessible workshops designed for seniors 60+.  These workshops are located in the Jack Bryant Room\, a ground floor open space accessed through the Prince George Symphony Orchestra door via the ramp in the parking lot.
URL:https://wattsartacademy.ca/event/senior-paint-club-colour-mixing/
LOCATION:Studio 2880 – Jack Bryan Room\, 2880 15th Ave\, Prince George\, BC\, V2M 4V4\, Canada
CATEGORIES:Watercolour Workshop
ATTACH;FMTTYPE=image/jpeg:https://wattsartacademy.ca/wp-content/uploads/2024/03/colour-mixing.jpg
ORGANIZER;CN="Studio 2880":MAILTO:arts@studio2880.com
END:VEVENT
BEGIN:VEVENT
DTSTART;TZID=America/Vancouver:20240512T120000
DTEND;TZID=America/Vancouver:20240512T150000
DTSTAMP:20260423T133622
CREATED:20240330T223225Z
LAST-MODIFIED:20240330T224338Z
UID:6525-1715515200-1715526000@wattsartacademy.ca
SUMMARY:Mother's Day Watercolour Workshop on the Farm
DESCRIPTION:Join us in the barn for a relaxing afternoon for Mother’s Day. Enjoy the posh rustic ambiance\, farm animals and paint away the afternoon.  In this workshop learn how to paint a structured peony with either bees or butterflies.  This class is perfect for beginners to intermediate artists\, anyone who wants to dip into to art and have fun the whole time.\n\nBegin this fun watercolour workshop with a lunch that includes pastries\, muffins\, scones\, assorted cheeses and fruit with a variety of farm made jams and jellies. Hot and cold beverage selection.\n\nYou will get all the instruction and materials to create your own work of art! Plus you get to take home a specially designed dot watercolour paint collection.\nInstructed by Christina Watts\n\n\n\n \n(Please note that workshops are non-refundable. If you are unable to make the workshop we will do our best to provide you with a diy kit to create at home.)
URL:https://wattsartacademy.ca/event/mothers-day-watercolour-workshop-on-the-farm/
LOCATION:Wildflower Farm\, 9295 Pooley Rd\, Prince George\, BC\, Canada
CATEGORIES:Watercolour Workshop
ATTACH;FMTTYPE=image/jpeg:https://wattsartacademy.ca/wp-content/uploads/2024/03/Mothers-Day-1.jpg
ORGANIZER;CN="Christina Watts":MAILTO:wattsartacademy@gmail.com
END:VEVENT
BEGIN:VEVENT
DTSTART;TZID=America/Vancouver:20240508T120000
DTEND;TZID=America/Vancouver:20240508T140000
DTSTAMP:20260423T133622
CREATED:20240308T184637Z
LAST-MODIFIED:20240330T223551Z
UID:6504-1715169600-1715176800@wattsartacademy.ca
SUMMARY:Seniors Paint Club - Draw Flowers
DESCRIPTION:UPDATE SOLD OUT \nLearn how to effectively draw flowers and enjoy this afternoon class experiencing graphite in new and exciting ways.  All supplies and tax included. \nIn partnership with Studio 2880 we are excited to bring you fun\, affordable and accessible workshops designed for seniors 60+.  These workshops are located in the Jack Bryant Room\, a ground floor open space accessed through the Prince George Symphony Orchestra door via the ramp in the parking lot. \nRegistration is through Studio 2880.  Call 250-563-2880 or sign up online.  Here’s the direct link: \nREGISTER WITH STUDIO 2880
URL:https://wattsartacademy.ca/event/seniors-paint-club-draw-flowers/
LOCATION:Studio 2880 – Jack Bryan Room\, 2880 15th Ave\, Prince George\, BC\, V2M 4V4\, Canada
CATEGORIES:Drawing Workshop
ATTACH;FMTTYPE=image/jpeg:https://wattsartacademy.ca/wp-content/uploads/2024/03/flower-drawing.jpg
ORGANIZER;CN="Studio 2880":MAILTO:arts@studio2880.com
END:VEVENT
BEGIN:VEVENT
DTSTART;TZID=America/Vancouver:20240502T180000
DTEND;TZID=America/Vancouver:20240502T200000
DTSTAMP:20260423T133622
CREATED:20240330T220116Z
LAST-MODIFIED:20240426T150256Z
UID:6522-1714672800-1714680000@wattsartacademy.ca
SUMMARY:Sip and Paint Acrylic Flower Workshop
DESCRIPTION:UPDATE:  SOLD OUT \nLearn how to paint a dynamic and loose background with beautiful flowers on top.  This fun class will be held in the warmed greenhouse at Hunniford Gardens where you will sit amongst the new plants and enjoy a sparkling beverage or glass of wine. \nTicket includes: \n\nall paint and supplies\n1 glass of wine or sparkling beverage\n\nAdditional beverages available at extra cost. \nPlease note: Tickets are non-refundable. \n\nSign up here or call 250-967-4325 to reserve your spot.\n\nFor those of you unfamiliar with Hunniford Gardens\, we are located at 8845 Aquarius Road\, 11 km down Chief Lake Road.\nRegistration for this workshop is through Hunniford Gardens.  Here’s the direct link for more info and to sign up! \nCLICK HERE TO SIGN UP
URL:https://wattsartacademy.ca/event/sip-and-paint-acrylic-flower-workshop/
LOCATION:Hunniford Gardens\, 8845 Aquarius Road\, Prince George\, BC\, Canada
CATEGORIES:Acrylic Workshop
ATTACH;FMTTYPE=image/jpeg:https://wattsartacademy.ca/wp-content/uploads/2024/03/Mothers-Day.jpg
ORGANIZER;CN="Hunniford Gardens":MAILTO:​hunnifords@hotmail.com
END:VEVENT
BEGIN:VEVENT
DTSTART;TZID=America/Vancouver:20240501T120000
DTEND;TZID=America/Vancouver:20240501T143000
DTSTAMP:20260423T133622
CREATED:20240308T184112Z
LAST-MODIFIED:20240330T223525Z
UID:6501-1714564800-1714573800@wattsartacademy.ca
SUMMARY:Seniors Paint Club - Watercolour Feathers
DESCRIPTION:UPDATE SOLD OUT \nLearn how to use watercolours and paint some gorgeous and whimsical watercolour feathers.  All supplies and tax included. \nIn partnership with Studio 2880 we are excited to bring you fun\, affordable and accessible workshops designed for seniors 60+.  These workshops are located in the Jack Bryant Room\, a ground floor open space accessed through the Prince George Symphony Orchestra door via the ramp in the parking lot. \nRegistration is through Studio 2880.  Call 250-563-2880 or sign up online by clicking: Senior Paint Club – Watercolour Feathers
URL:https://wattsartacademy.ca/event/seniors-paint-club-watercolour-feathers/
LOCATION:Studio 2880 – Jack Bryan Room\, 2880 15th Ave\, Prince George\, BC\, V2M 4V4\, Canada
CATEGORIES:Watercolour Workshop
ATTACH;FMTTYPE=image/jpeg:https://wattsartacademy.ca/wp-content/uploads/2024/03/wc-feathers.jpg
ORGANIZER;CN="Studio 2880":MAILTO:arts@studio2880.com
END:VEVENT
BEGIN:VEVENT
DTSTART;TZID=America/Vancouver:20240428T130000
DTEND;TZID=America/Vancouver:20240428T160000
DTSTAMP:20260423T133622
CREATED:20240308T183259Z
LAST-MODIFIED:20240426T150154Z
UID:6499-1714309200-1714320000@wattsartacademy.ca
SUMMARY:Mountain Landscapes Workshop
DESCRIPTION:UPDATE:  SOLD OUT – Please email me at wattsartacademy@gmail.com if you were interested in this workshop and if I have enough people I’ll put it on again. \nLearn how to paint incredible mountain scenes with trees and snow lines in this acrylic paint workshop.  We will be using 16″x20″ canvas wood panels with heavier bodied acrylics.  All supplies are included.  Feel free to bring a hot drink and get ready to paint dynamic mountains. \nThis workshop is held through Studio 2880.  To find out more and sign up here is the direct link: \nREGISTER
URL:https://wattsartacademy.ca/event/mountain-landscapes-workshop/
LOCATION:Studio 2880 – Upstairs Workshop Room\, 2880 15th Ave\, Prince George\, British Columbia\, V2M 1T1\, Canada
CATEGORIES:Acrylic Workshop
ATTACH;FMTTYPE=image/jpeg:https://wattsartacademy.ca/wp-content/uploads/2024/03/mountains.jpg
ORGANIZER;CN="Studio 2880":MAILTO:arts@studio2880.com
END:VEVENT
BEGIN:VEVENT
DTSTART;TZID=America/Vancouver:20240426T173000
DTEND;TZID=America/Vancouver:20240426T193000
DTSTAMP:20260423T133622
CREATED:20240308T182239Z
LAST-MODIFIED:20240426T150012Z
UID:6495-1714152600-1714159800@wattsartacademy.ca
SUMMARY:Sip and Paint Acrylic Flowers Workshop
DESCRIPTION:UPDATE: 1 Spot Left \nLearn how to paint a dynamic and loose background with beautiful flowers on top.  This fun class will be held in the warmed greenhouse at Hunniford Gardens where you will sit amongst the new plants and enjoy a sparkling beverage or glass of wine. \nRegistration for this workshop is through Hunniford Gardens.  Here’s the direct link for more info and to sign up! \n 
URL:https://wattsartacademy.ca/event/sip-and-paint-acrylic-flowers-workshop/
LOCATION:Hunniford Gardens\, 8845 Aquarius Road\, Prince George\, BC\, Canada
CATEGORIES:Acrylic Workshop
ATTACH;FMTTYPE=image/jpeg:https://wattsartacademy.ca/wp-content/uploads/2024/03/hunniford.jpg
ORGANIZER;CN="Hunniford Gardens":MAILTO:​hunnifords@hotmail.com
END:VEVENT
END:VCALENDAR